BEGIN:VCALENDAR
VERSION:2.0
PRODID:-//Apollonia Radio - ECPv6.15.11//NONSGML v1.0//EN
CALSCALE:GREGORIAN
METHOD:PUBLISH
X-WR-CALNAME:Apollonia Radio
X-ORIGINAL-URL:https://apolloniaradio.ro
X-WR-CALDESC:Evenimente pentru Apollonia Radio
REFRESH-INTERVAL;VALUE=DURATION:PT1H
X-Robots-Tag:noindex
X-PUBLISHED-TTL:PT1H
BEGIN:VTIMEZONE
TZID:UTC
BEGIN:STANDARD
TZOFFSETFROM:+0000
TZOFFSETTO:+0000
TZNAME:UTC
DTSTART:20240101T000000
END:STANDARD
END:VTIMEZONE
BEGIN:VEVENT
DTSTART;VALUE=DATE:20250925
DTEND;VALUE=DATE:20251113
DTSTAMP:20260420T050718
CREATED:20250531T121131Z
LAST-MODIFIED:20250904T203828Z
UID:3409-1758758400-1762991999@apolloniaradio.ro
SUMMARY:Urban Beats – Iași Pulse
DESCRIPTION:Un eveniment care aduce împreună energia orașului și ritmul studenției. Pe fundalul vieții urbane pline de mișcare\, discutăm despre cultură\, evenimente locale\, locuri de descoperit și poveștile care dau culoare comunității. Muzică\, dialoguri și recomandări care conectează tinerii la orașul în care trăiesc și studiază.
URL:https://apolloniaradio.ro/eveniment/new-york-street-festival/
CATEGORIES:Radio highlights
ATTACH;FMTTYPE=image/jpeg:https://apolloniaradio.ro/wp-content/uploads/2019/05/iasi-pulse.jpg
END:VEVENT
END:VCALENDAR